BEGIN:VCALENDAR
VERSION:2.0
PRODID:-//Windsor Christian Preschool - ECPv6.15.13.1//NONSGML v1.0//EN
CALSCALE:GREGORIAN
METHOD:PUBLISH
X-ORIGINAL-URL:https://www.windsorcp.org
X-WR-CALDESC:Events for Windsor Christian Preschool
REFRESH-INTERVAL;VALUE=DURATION:PT1H
X-Robots-Tag:noindex
X-PUBLISHED-TTL:PT1H
BEGIN:VTIMEZONE
TZID:America/New_York
BEGIN:DAYLIGHT
TZOFFSETFROM:-0500
TZOFFSETTO:-0400
TZNAME:EDT
DTSTART:20240310T070000
END:DAYLIGHT
BEGIN:STANDARD
TZOFFSETFROM:-0400
TZOFFSETTO:-0500
TZNAME:EST
DTSTART:20241103T060000
END:STANDARD
BEGIN:DAYLIGHT
TZOFFSETFROM:-0500
TZOFFSETTO:-0400
TZNAME:EDT
DTSTART:20250309T070000
END:DAYLIGHT
BEGIN:STANDARD
TZOFFSETFROM:-0400
TZOFFSETTO:-0500
TZNAME:EST
DTSTART:20251102T060000
END:STANDARD
BEGIN:DAYLIGHT
TZOFFSETFROM:-0500
TZOFFSETTO:-0400
TZNAME:EDT
DTSTART:20260308T070000
END:DAYLIGHT
BEGIN:STANDARD
TZOFFSETFROM:-0400
TZOFFSETTO:-0500
TZNAME:EST
DTSTART:20261101T060000
END:STANDARD
END:VTIMEZONE
BEGIN:VEVENT
DTSTART;TZID=America/New_York:20250501T113000
DTEND;TZID=America/New_York:20250501T123000
DTSTAMP:20260421T070525
CREATED:20250324T172641Z
LAST-MODIFIED:20250324T172641Z
UID:10651-1746099000-1746102600@www.windsorcp.org
SUMMARY:Lunch Bunch Sign Up
DESCRIPTION:
URL:https://www.windsorcp.org/event/lunch-bunch-sign-up-235/
END:VEVENT
BEGIN:VEVENT
DTSTART;TZID=America/New_York:20250502T113000
DTEND;TZID=America/New_York:20250502T123000
DTSTAMP:20260421T070525
CREATED:20250324T172739Z
LAST-MODIFIED:20250324T172739Z
UID:10654-1746185400-1746189000@www.windsorcp.org
SUMMARY:Lunch Bunch Sign Up
DESCRIPTION:
URL:https://www.windsorcp.org/event/lunch-bunch-sign-up-236/
END:VEVENT
BEGIN:VEVENT
DTSTART;TZID=America/New_York:20250505T113000
DTEND;TZID=America/New_York:20250505T123000
DTSTAMP:20260421T070525
CREATED:20250324T172831Z
LAST-MODIFIED:20250324T172831Z
UID:10657-1746444600-1746448200@www.windsorcp.org
SUMMARY:Lunch Bunch Sign Up
DESCRIPTION:
URL:https://www.windsorcp.org/event/lunch-bunch-sign-up-237/
END:VEVENT
BEGIN:VEVENT
DTSTART;TZID=America/New_York:20250506T113000
DTEND;TZID=America/New_York:20250506T123000
DTSTAMP:20260421T070525
CREATED:20250324T172926Z
LAST-MODIFIED:20250324T172926Z
UID:10660-1746531000-1746534600@www.windsorcp.org
SUMMARY:Lunch Bunch Sign Up
DESCRIPTION:
URL:https://www.windsorcp.org/event/lunch-bunch-sign-up-238/
END:VEVENT
BEGIN:VEVENT
DTSTART;TZID=America/New_York:20250507T113000
DTEND;TZID=America/New_York:20250507T123000
DTSTAMP:20260421T070525
CREATED:20250324T173017Z
LAST-MODIFIED:20250324T173017Z
UID:10663-1746617400-1746621000@www.windsorcp.org
SUMMARY:Lunch Bunch Sign Up
DESCRIPTION:
URL:https://www.windsorcp.org/event/lunch-bunch-sign-up-239/
END:VEVENT
BEGIN:VEVENT
DTSTART;TZID=America/New_York:20250508T113000
DTEND;TZID=America/New_York:20250508T123000
DTSTAMP:20260421T070525
CREATED:20250324T173138Z
LAST-MODIFIED:20250324T173138Z
UID:10666-1746703800-1746707400@www.windsorcp.org
SUMMARY:Lunch Bunch Sign Up
DESCRIPTION:
URL:https://www.windsorcp.org/event/lunch-bunch-sign-up-240/
END:VEVENT
BEGIN:VEVENT
DTSTART;TZID=America/New_York:20250509T113000
DTEND;TZID=America/New_York:20250509T123000
DTSTAMP:20260421T070525
CREATED:20250508T132626Z
LAST-MODIFIED:20250508T132626Z
UID:10902-1746790200-1746793800@www.windsorcp.org
SUMMARY:Lunch Bunch Sign Up
DESCRIPTION:
URL:https://www.windsorcp.org/event/lunch-bunch-sign-up-241/
END:VEVENT
BEGIN:VEVENT
DTSTART;VALUE=DATE:20250512
DTEND;VALUE=DATE:20250513
DTSTAMP:20260421T070525
CREATED:20250508T132729Z
LAST-MODIFIED:20250508T132729Z
UID:10905-1747008000-1747094399@www.windsorcp.org
SUMMARY:Festival! No lunch bunch today
DESCRIPTION:
URL:https://www.windsorcp.org/event/festival-no-lunch-bunch-today/
END:VEVENT
BEGIN:VEVENT
DTSTART;TZID=America/New_York:20250513T113000
DTEND;TZID=America/New_York:20250513T123000
DTSTAMP:20260421T070525
CREATED:20250324T190237Z
LAST-MODIFIED:20250324T190237Z
UID:10674-1747135800-1747139400@www.windsorcp.org
SUMMARY:Lunch Bunch Sign Up
DESCRIPTION:
URL:https://www.windsorcp.org/event/lunch-bunch-sign-up-242/
END:VEVENT
BEGIN:VEVENT
DTSTART;TZID=America/New_York:20250514T113000
DTEND;TZID=America/New_York:20250514T123000
DTSTAMP:20260421T070525
CREATED:20250324T190348Z
LAST-MODIFIED:20250324T190348Z
UID:10677-1747222200-1747225800@www.windsorcp.org
SUMMARY:Lunch Bunch Sign Up
DESCRIPTION:
URL:https://www.windsorcp.org/event/lunch-bunch-sign-up-243/
END:VEVENT
BEGIN:VEVENT
DTSTART;TZID=America/New_York:20250515T113000
DTEND;TZID=America/New_York:20250515T123000
DTSTAMP:20260421T070525
CREATED:20250324T191223Z
LAST-MODIFIED:20250324T191223Z
UID:10683-1747308600-1747312200@www.windsorcp.org
SUMMARY:Lunch Bunch Sign Up
DESCRIPTION:
URL:https://www.windsorcp.org/event/lunch-bunch-sign-up-245/
END:VEVENT
BEGIN:VEVENT
DTSTART;TZID=America/New_York:20250516T113000
DTEND;TZID=America/New_York:20250516T123000
DTSTAMP:20260421T070525
CREATED:20250324T190738Z
LAST-MODIFIED:20250324T190738Z
UID:10680-1747395000-1747398600@www.windsorcp.org
SUMMARY:Lunch Bunch Sign Up
DESCRIPTION:
URL:https://www.windsorcp.org/event/lunch-bunch-sign-up-244/
END:VEVENT
BEGIN:VEVENT
DTSTART;TZID=America/New_York:20250519T113000
DTEND;TZID=America/New_York:20250519T123000
DTSTAMP:20260421T070525
CREATED:20250324T191530Z
LAST-MODIFIED:20250324T191530Z
UID:10686-1747654200-1747657800@www.windsorcp.org
SUMMARY:Lunch Bunch Sign Up
DESCRIPTION:
URL:https://www.windsorcp.org/event/lunch-bunch-sign-up-246/
END:VEVENT
BEGIN:VEVENT
DTSTART;TZID=America/New_York:20250520T113000
DTEND;TZID=America/New_York:20250520T123000
DTSTAMP:20260421T070525
CREATED:20250324T191705Z
LAST-MODIFIED:20250324T191705Z
UID:10689-1747740600-1747744200@www.windsorcp.org
SUMMARY:Lunch Bunch Sign Up
DESCRIPTION:
URL:https://www.windsorcp.org/event/lunch-bunch-sign-up-247/
END:VEVENT
BEGIN:VEVENT
DTSTART;TZID=America/New_York:20250521T113000
DTEND;TZID=America/New_York:20250521T123000
DTSTAMP:20260421T070525
CREATED:20250324T191957Z
LAST-MODIFIED:20250324T191957Z
UID:10692-1747827000-1747830600@www.windsorcp.org
SUMMARY:Lunch Bunch Sign Up
DESCRIPTION:
URL:https://www.windsorcp.org/event/lunch-bunch-sign-up-248/
END:VEVENT
END:VCALENDAR